BEGIN:VCALENDAR
VERSION:2.0
PRODID:-//Tesei Piante - ECPv6.0.2//NONSGML v1.0//EN
CALSCALE:GREGORIAN
METHOD:PUBLISH
X-ORIGINAL-URL:https://www.teseipiante.it
X-WR-CALDESC:Eventi per Tesei Piante
REFRESH-INTERVAL;VALUE=DURATION:PT1H
X-Robots-Tag:noindex
X-PUBLISHED-TTL:PT1H
BEGIN:VTIMEZONE
TZID:UTC
BEGIN:STANDARD
TZOFFSETFROM:+0000
TZOFFSETTO:+0000
TZNAME:UTC
DTSTART:20170101T000000
END:STANDARD
END:VTIMEZONE
BEGIN:VEVENT
DTSTART;TZID=UTC:20180602T080000
DTEND;TZID=UTC:20200604T170000
DTSTAMP:20260419T190343
CREATED:20170825T205526Z
LAST-MODIFIED:20190329T102143Z
UID:14346-1527926400-1591290000@www.teseipiante.it
SUMMARY:National Urban Design Conference 2017
DESCRIPTION:Description\n\n	\n	\n	\n\n\n	\n		\n	As demand for new homes rises\, our towns and cities are becoming more densely populated. How can we make the most of the increasingly limited opportunities for green infrastructure in our urban areas? \nGreen infrastructure – such as parks\, green spaces\, trees\, and sustainable drainage – are vital if our urban areas are to be attractive\, healthy\, liveable places. But finding the space for green infrastructure is becoming increasingly difficult. \nThis conference\, organised by TCPA\, will bring together leading practitioners from across the sector with new perspectives\, ideas and inspiration.
URL:https://www.teseipiante.it/classes/national-urban-design-conference-2017/
LOCATION:New York Ardesia Bar\, Lexington Avenue\, New York\, NY\, 10022\, United States
CATEGORIES:Aerobics,Danceing
ATTACH;FMTTYPE=image/jpeg:https://www.teseipiante.it/wp-content/uploads/2017/08/Event1.jpg
ORGANIZER;CN="Michael":MAILTO:junk@vamtam.com
END:VEVENT
BEGIN:VEVENT
DTSTART;VALUE=DATE:20180412
DTEND;VALUE=DATE:20200415
DTSTAMP:20260419T190343
CREATED:20170825T205039Z
LAST-MODIFIED:20190329T102143Z
UID:14345-1523491200-1586908799@www.teseipiante.it
SUMMARY:Natural capital accounting at the local and landscape scale
DESCRIPTION:Description\n\n	\n	\n	\n\n\n	\n		\n	As demand for new homes rises\, our towns and cities are becoming more densely populated. How can we make the most of the increasingly limited opportunities for green infrastructure in our urban areas? \nGreen infrastructure – such as parks\, green spaces\, trees\, and sustainable drainage – are vital if our urban areas are to be attractive\, healthy\, liveable places. But finding the space for green infrastructure is becoming increasingly difficult. \nThis conference\, organised by TCPA\, will bring together leading practitioners from across the sector with new perspectives\, ideas and inspiration.
URL:https://www.teseipiante.it/classes/natural-capital-accounting-at-the-local-and-landscape-scale/
LOCATION:New York Ardesia Bar\, Lexington Avenue\, New York\, NY\, 10022\, United States
ATTACH;FMTTYPE=image/jpeg:https://www.teseipiante.it/wp-content/uploads/2017/08/Event2.jpg
END:VEVENT
BEGIN:VEVENT
DTSTART;TZID=UTC:20180208T080000
DTEND;TZID=UTC:20200208T080000
DTSTAMP:20260419T190343
CREATED:20170825T083749Z
LAST-MODIFIED:20190329T102143Z
UID:14343-1518076800-1581148800@www.teseipiante.it
SUMMARY:‘Out of Nature’ sculpture show
DESCRIPTION:Description\n\n	\n	\n	\n\n\n	\n		\n	As demand for new homes rises\, our towns and cities are becoming more densely populated. How can we make the most of the increasingly limited opportunities for green infrastructure in our urban areas? \nGreen infrastructure – such as parks\, green spaces\, trees\, and sustainable drainage – are vital if our urban areas are to be attractive\, healthy\, liveable places. But finding the space for green infrastructure is becoming increasingly difficult. \nThis conference\, organised by TCPA\, will bring together leading practitioners from across the sector with new perspectives\, ideas and inspiration.
URL:https://www.teseipiante.it/classes/out-of-nature-sculpture-show/
LOCATION:New York Ardesia Bar\, Lexington Avenue\, New York\, NY\, 10022\, United States
ATTACH;FMTTYPE=image/jpeg:https://www.teseipiante.it/wp-content/uploads/2017/08/Event3.jpg
ORGANIZER;CN="Michael":MAILTO:junk@vamtam.com
END:VEVENT
BEGIN:VEVENT
DTSTART;VALUE=DATE:20171214
DTEND;VALUE=DATE:20191215
DTSTAMP:20260419T190343
CREATED:20170825T211213Z
LAST-MODIFIED:20190329T102143Z
UID:14348-1513209600-1576367999@www.teseipiante.it
SUMMARY:Winter Break Camp
DESCRIPTION:Description\n\n	\n	\n	\n\n\n	\n		\n	As demand for new homes rises\, our towns and cities are becoming more densely populated. How can we make the most of the increasingly limited opportunities for green infrastructure in our urban areas? \nGreen infrastructure – such as parks\, green spaces\, trees\, and sustainable drainage – are vital if our urban areas are to be attractive\, healthy\, liveable places. But finding the space for green infrastructure is becoming increasingly difficult. \nThis conference\, organised by TCPA\, will bring together leading practitioners from across the sector with new perspectives\, ideas and inspiration.
URL:https://www.teseipiante.it/classes/winter-break-camp/
LOCATION:New York Ardesia Bar\, Lexington Avenue\, New York\, NY\, 10022\, United States
CATEGORIES:Aerobics,Danceing,Tires
ATTACH;FMTTYPE=image/jpeg:https://www.teseipiante.it/wp-content/uploads/2017/08/Event3.jpg
END:VEVENT
BEGIN:VEVENT
DTSTART;TZID=UTC:20171124T000000
DTEND;TZID=UTC:20201128T235900
DTSTAMP:20260419T190343
CREATED:20170825T212759Z
LAST-MODIFIED:20190329T102143Z
UID:14351-1511481600-1606607940@www.teseipiante.it
SUMMARY:Retrofitting and enhancing green infrastructure
DESCRIPTION:Description\n\n	\n	\n	\n\n\n	\n		\n	As demand for new homes rises\, our towns and cities are becoming more densely populated. How can we make the most of the increasingly limited opportunities for green infrastructure in our urban areas? \nGreen infrastructure – such as parks\, green spaces\, trees\, and sustainable drainage – are vital if our urban areas are to be attractive\, healthy\, liveable places. But finding the space for green infrastructure is becoming increasingly difficult. \nThis conference\, organised by TCPA\, will bring together leading practitioners from across the sector with new perspectives\, ideas and inspiration.
URL:https://www.teseipiante.it/classes/retrofitting-and-enhancing-green-infrastructure/
LOCATION:New York Ardesia Bar\, Lexington Avenue\, New York\, NY\, 10022\, United States
ATTACH;FMTTYPE=image/jpeg:https://www.teseipiante.it/wp-content/uploads/2017/08/Event4.jpg
ORGANIZER;CN="Michael%20%26amp%3B%20Ashley":MAILTO:junk@vamtam.com
END:VEVENT
BEGIN:VEVENT
DTSTART;VALUE=DATE:20171002
DTEND;VALUE=DATE:20201003
DTSTAMP:20260419T190343
CREATED:20170825T210424Z
LAST-MODIFIED:20190329T102143Z
UID:14347-1506902400-1601683199@www.teseipiante.it
SUMMARY:ILCA Golf outing
DESCRIPTION:Description\n\n	\n	\n	\n\n\n	\n		\n	As demand for new homes rises\, our towns and cities are becoming more densely populated. How can we make the most of the increasingly limited opportunities for green infrastructure in our urban areas? \nGreen infrastructure – such as parks\, green spaces\, trees\, and sustainable drainage – are vital if our urban areas are to be attractive\, healthy\, liveable places. But finding the space for green infrastructure is becoming increasingly difficult. \nThis conference\, organised by TCPA\, will bring together leading practitioners from across the sector with new perspectives\, ideas and inspiration.
URL:https://www.teseipiante.it/classes/ilca-golf-outing/
LOCATION:New York Ardesia Bar\, Lexington Avenue\, New York\, NY\, 10022\, United States
CATEGORIES:Aerobics,Yoga
ATTACH;FMTTYPE=image/jpeg:https://www.teseipiante.it/wp-content/uploads/2017/08/Event5.jpg
ORGANIZER;CN="Michael%20%26amp%3B%20Ashley":MAILTO:junk@vamtam.com
END:VEVENT
BEGIN:VEVENT
DTSTART;VALUE=DATE:20170914
DTEND;VALUE=DATE:20201015
DTSTAMP:20260419T190343
CREATED:20170825T212445Z
LAST-MODIFIED:20190329T102143Z
UID:14350-1505347200-1602719999@www.teseipiante.it
SUMMARY:Plant Giveaway
DESCRIPTION:Description\n\n	\n	\n	\n\n\n	\n		\n	As demand for new homes rises\, our towns and cities are becoming more densely populated. How can we make the most of the increasingly limited opportunities for green infrastructure in our urban areas? \nGreen infrastructure – such as parks\, green spaces\, trees\, and sustainable drainage – are vital if our urban areas are to be attractive\, healthy\, liveable places. But finding the space for green infrastructure is becoming increasingly difficult. \nThis conference\, organised by TCPA\, will bring together leading practitioners from across the sector with new perspectives\, ideas and inspiration.
URL:https://www.teseipiante.it/classes/plant-giveaway/
LOCATION:New York Ardesia Bar\, Lexington Avenue\, New York\, NY\, 10022\, United States
CATEGORIES:Aerobics,Danceing,Headlights & Lighting,Tires,Yoga,Аccessories
ATTACH;FMTTYPE=image/jpeg:https://www.teseipiante.it/wp-content/uploads/2017/08/Event6.jpg
ORGANIZER;CN="Michael":MAILTO:junk@vamtam.com
END:VEVENT
BEGIN:VEVENT
DTSTART;TZID=UTC:20170901T080000
DTEND;TZID=UTC:20191002T170000
DTSTAMP:20260419T190343
CREATED:20170825T211901Z
LAST-MODIFIED:20190329T102143Z
UID:14349-1504252800-1570035600@www.teseipiante.it
SUMMARY:Nature Nights
DESCRIPTION:Description\n\n	\n	\n	\n\n\n	\n		\n	As demand for new homes rises\, our towns and cities are becoming more densely populated. How can we make the most of the increasingly limited opportunities for green infrastructure in our urban areas? \nGreen infrastructure – such as parks\, green spaces\, trees\, and sustainable drainage – are vital if our urban areas are to be attractive\, healthy\, liveable places. But finding the space for green infrastructure is becoming increasingly difficult. \nThis conference\, organised by TCPA\, will bring together leading practitioners from across the sector with new perspectives\, ideas and inspiration.
URL:https://www.teseipiante.it/classes/nature-nights/
LOCATION:New York Ardesia Bar\, Lexington Avenue\, New York\, NY\, 10022\, United States
ATTACH;FMTTYPE=image/jpeg:https://www.teseipiante.it/wp-content/uploads/2017/08/Event7.jpg
ORGANIZER;CN="Michael%20%26amp%3B%20Ashley":MAILTO:junk@vamtam.com
END:VEVENT
BEGIN:VEVENT
DTSTART;TZID=UTC:20170829T080000
DTEND;TZID=UTC:20200829T170000
DTSTAMP:20260419T190343
CREATED:20170825T203338Z
LAST-MODIFIED:20190329T102143Z
UID:14344-1503993600-1598720400@www.teseipiante.it
SUMMARY:School Day-off Camp
DESCRIPTION:Description\n\n	\n	\n	\n\n\n	\n		\n	As demand for new homes rises\, our towns and cities are becoming more densely populated. How can we make the most of the increasingly limited opportunities for green infrastructure in our urban areas? \nGreen infrastructure – such as parks\, green spaces\, trees\, and sustainable drainage – are vital if our urban areas are to be attractive\, healthy\, liveable places. But finding the space for green infrastructure is becoming increasingly difficult. \nThis conference\, organised by TCPA\, will bring together leading practitioners from across the sector with new perspectives\, ideas and inspiration.
URL:https://www.teseipiante.it/classes/school-day-off-camp/
LOCATION:New York Ardesia Bar\, Lexington Avenue\, New York\, NY\, 10022\, United States
CATEGORIES:Tires,Yoga,Аccessories
ATTACH;FMTTYPE=image/jpeg:https://www.teseipiante.it/wp-content/uploads/2017/08/Event8.jpg
ORGANIZER;CN="Michael%20%26amp%3B%20Ashley":MAILTO:junk@vamtam.com
END:VEVENT
END:VCALENDAR